Workbook
Name Contractor_Code: CoverSheetOLD!$B$11
Name Contractor_Code: CoverSheet!$B$12
Name Date: CoverSheetOLD!$B$18
Name Date: CoverSheet!$B$9
Name FHS_sig: [1]FHS!$E$25
Name FHS_sig: #REF!
Name FHS_sig: #REF!
Name FHS_sig: #REF!
Name HD_sig: '[1]Hosp Discharge (NE,NW,East Dun)'!$D$35
Name HD_sig: #REF!
Name HD_sig: #REF!
Name HepC_sig: HepC!$A$20
Name HepC_sig: #REF!
Name HepC_sig: #REF!
Name MAR_sig: '[1]MAR Charts '!$A$59
Name MAR_sig: #REF!
Name MAR_sig: #REF!
Name MCA_sig: [1]MCA!$A$21
Name MCA_sig: MCAold!$A$21
Name ONS_sig: [1]ONS!$A$25
Name ONS_sig: CPNSS!$A$35
Name OOHP_sig: '[1]OOH Prescription'!$A$26
Name OOHP_sig: 'West Dun Rota'!$A$25
Name OOHP_sig: 'OOH Prescription'!$A$27
Name PC_sig: '[1]Palliative Care '!$A$24
Name PC_sig: 'Virtual Wards'!$F$29
Name PC_sig: 'Palliative Care'!$F$22
Name PFCOPD_sig: '[1]Pharmacy First - COPD'!$A$28
Name PFCOPD_sig: COPD!$A$28
Name PFINV_sig: '[1]Pharmacy First (Inverclyde)'!$A$31
Name PFINV_sig: #REF!
Name PFINV_sig: #REF!
Name Pharmacy_Address1: CoverSheetOLD!$B$13
Name Pharmacy_Address1: CoverSheet!$B$13
Name Pharmacy_Address2: CoverSheetOLD!$B$14
Name Pharmacy_Address2: CoverSheet!$B$14
Name Pharmacy_Address3: CoverSheetOLD!$B$15
Name Pharmacy_Address3: CoverSheet!#REF!
Name Pharmacy_Address3: CoverSheet!#REF!
Name Pharmacy_Address4: CoverSheetOLD!$B$16
Name Pharmacy_Address4: CoverSheet!$B$15
Name Pharmacy_Address5: CoverSheetOLD!#REF!
Name Pharmacy_Address5: CoverSheet!#REF!
Name Pharmacy_Address5: CoverSheet!#REF!
Name Pharmacy_Address5: CoverSheet!#REF!
Name Pharmacy_Address5: CoverSheet!#REF!
Name Pharmacy_Name: CoverSheetOLD!$B$12
Name Pharmacy_Name: CoverSheet!$B$19
Name Pharmacy_Postcode: CoverSheetOLD!$B$17
Name Pharmacy_Postcode: CoverSheet!#REF!
Name Pharmacy_Postcode: CoverSheet!#REF!
Name Signatory: CoverSheetOLD!$B$9
Name Signatory: CoverSheet!$B$10

Sheet Service Fees
A1: NHS Greater Glasgow & Clyde | B1: SERVICE FEE PAYMENTS
A3: Services | C3: 2016/17 | E3: 2017/18 | G3: 2018/19 | I3: 2019/2020 | K3: 2023/24
A4: ADRS SERVICES
A5: Disulfiram | B5: Per Patient Fee / per Month: | K5: 15
A7: Naloxone | K7: 15
A9: IEP
B10: Per Transaction Fee: | C10: 2.4 | E10: 2.4 | G10: 2.4 | I10: 2.4 | K10: 2.7
B11: Retention Fee: | C11: 1114.25 | E11: 1114.25 | G11: 1114.25 | I11: 1114.25 | K11: 1114.25
A13: Opioid Substitution Therapy Service | B13: Per Patient Fee / per Month: | G13: 72.5 | I13: 77 | K13: 77
A15: Buvidal Administration | B15: Per Administration Fee: | K15: £40
B16: One-off Service Set Up Fee: | K16: £300
A18: LOCALLY NEGOTIATED SERVICES
A19: Advice to Residential Homes
B20: Annual Allowance: | C20: 279.3 | E20: 279.3 | G20: 279.3 | I20: 287.679 | K20: 320.18
B21: Establishment Fee: | C21: 35.97 | E21: 35.97 | G21: 35.97 | I21: 37.0491 | K21: 41.23
B22: Per Resident Fee: | C22: 7.42 | E22: 7.42 | G22: 7.42 | I22: 7.6426 | K22: 8.5
A24: Call Out Fees for Urgent Prescriptions | C24: 108.25 | E24: 108.25 | G24: 108.25 | I24: 111.4975 | K24: 182.32
A26: COPD
B27: Establishment Fee: | K27: 53
B28: Per Consultation Fee: | K28: 21.2
A30: CPNSS
B31: Monitoring Payment: | K31: 15
B32: Opt-in: | E32: 100 | G32: 100 | I32: 250 | K32: 250
B33: Patient Registration Fee: | K33: 5
B34: Supply Payment: | K34: 2
A36: HIV | B36: Per Patient Fee / per Month: | G36: 72 | I36: 72.5 | K36: 80.56
A38: Hospital Discharge Service
B39: Establishment Fee: | K39: 150
B40: Per Patient Fee: | K40: 35
A42: Palliative Care
B43: Locum Fees - Training Attendance: | C43: 179 | E43: 179 | G43: 179 | I43: 184.37 | K43: 196.1
B44: Retention Fee: | C44: 816.08 | E44: 816.08 | G44: 816.08 | I44: 840.5624 | K44: 935.53
A46: Rota Services
B47: Hourly Rate: | C47: 103.55 | E47: 103.55 | G47: 103.55 | I47: 106.6565 | K47: 118.72
B48: Christmas / New Year Holidays: | C48: 237.62 | E48: 237.62 | G48: 237.62 | I48: 244.7486 | K48: 272.4
B49: 3 hrs/day when required for service provision
A51: NATIONAL SERVICES
A52: Hepatitis C
B53: Business Risk: | C53: 265 | E53: 265 | G53: 265 | I53: 265 | K53: 278.25
B54: Pharmaceutical Care: | C54: 135 | E54: 135 | G54: 135 | I54: 135 | K54: 141.75
...

Sheet TasklistOLD
A3: Pharmacy Name | B3: =Pharmacy_Name -> Auto Populates
A4: Pharmacy Address 1 | B4: =Pharmacy_Address1 -> Auto Populates
A5: Pharmacy Address 2 | B5: =Pharmacy_Address2 -> Auto Populates
A6: Pharmacy Address 3 | B6: =Pharmacy_Address3 -> #REF!
A7: Pharmacy Address 4 | B7: =Pharmacy_Address4 -> Auto Populates
A8: Pharmacy Address Postcode | B8: =Pharmacy_Postcode -> #REF!
A9: Contractor Code | B9: =Contractor_Code -> 0
A10: Date (dd/mm/yyyy) | B10: =Date
A13: Task list (column B changes to black once there is a signature on the form, columns C and D change to black once a completed date is entered into column E)
A14: PROCESS/CONTENTS (click on link in column A to go to relevant page) | B14: Completed/Signature (Yes/No) | C14: NAME | D14: PROCESS | E14: PROCESSED DATE (dd/mm/yyyy)
A15: AdviceToCareHomes | B15: =IF(ISBLANK(ATCH_sig),"No","Yes") -> Yes | C15: Karen Armstrong | D15: Check invoice
A16: FHS | B16: =IF(ISBLANK(FHS_sig),"No","Yes") -> Yes | C16: Karen Armstrong | D16: Check invoice
A17: HepC | B17: =IF(ISBLANK(HepC_sig),"No","Yes") -> Yes | C17: Mani | D17: Check claim form
A18: Hosp Discharge (NE, NW, East Dun) | B18: =IF(ISBLANK(HD_sig),"No","Yes") -> Yes | C18: Karen Armstrong | D18: Check invoice
A19: MAR Charts | B19: =IF(ISBLANK(MAR_sig),"No","Yes") -> Yes | C19: Michelle Cooper | D19: Check invoice
A20: MCA | B20: =IF(ISBLANK(MCA_sig),"No","Yes") -> Yes | C20: Karen Armstrong | D20: Check invoice
A21: ONS | B21: =IF(ISBLANK(ONS_sig),"No","Yes") -> Yes | C21: Karen Armstrong | D21: Check claim form
A22: OOH Prescription | B22: =IF(ISBLANK(OOHP_sig),"No","Yes") -> Yes | C22: Karen Armstrong | D22: Check invoice
A23: Palliative Care | B23: =IF(ISBLANK(PC_sig),"No","Yes") -> Yes | C23: Karen Armstrong | D23: Check invoice
A24: Pharmacy First - COPD | B24: =IF(ISBLANK(PFCOPD_sig),"No","Yes") -> Yes | C24: Karen Armstrong | D24: Check invoice
A25: Pharmacy First (Inverclyde) | B25: =IF(ISBLANK(PFINV_sig),"No","Yes") -> Yes | C25: Karen Armstrong | D25: Check claim form

Sheet CoverSheetOLD
A1: Email completed form to:
A2: ggc.cpdevteam@nhs.scot
A6: Workbook to be submitted by the 7th day of each month to ensure payment in that month. Submissions received later than the deadline may miss the payment for that month.
A8: Please complete all details in light grey cells below
A9: Name of person submitting workbook | B9: Maira Campbell
A10: Designation of person submitting workbook | B10: Pharmacist
A11: Contractor Code | B11: 1205
A12: Pharmacy Name | B12: =IF(ISNA(INDEX(PharmacyLookup!E:E,MATCH(Contractor_Code,PharmacyLookup!D:D,0))),"Please enter details here manually",IF(INDEX(PharmacyLookup!E:E,MATCH(Contractor_Code,PharmacyLookup!D:D,0))=0,"",INDEX(PharmacyLookup!E:E,MATCH(Contractor_Code,PharmacyLookup!D:D,0)))) -> Glasgow City HSCP - South
A13: Pharmacy Address 1 | B13: =IF(ISNA(INDEX(PharmacyLookup!F:F,MATCH(Contractor_Code,PharmacyLookup!D:D,0))),"Please enter details here manually",INDEX(PharmacyLookup!F:F,MATCH(Contractor_Code,PharmacyLookup!D:D,0))) -> Gilbride Chemists
A14: Pharmacy Address 2 | B14: =IF(ISNA(INDEX(PharmacyLookup!G:G,MATCH(Contractor_Code,PharmacyLookup!D:D,0))),"Please enter detailshere manually",INDEX(PharmacyLookup!G:G,MATCH(Contractor_Code,PharmacyLookup!D:D,0))) -> 92 Langlands Road
A15: Pharmacy Address 3 | B15: =IF(ISNA(INDEX(PharmacyLookup!H:H,MATCH(Contractor_Code,PharmacyLookup!D:D,0))),"Please enterdetails here manually",IF(INDEX(PharmacyLookup!H:H,MATCH(Contractor_Code,PharmacyLookup!D:D,0))=0,"",INDEX(PharmacyLookup!H:H,MATCH(Contractor_Code,PharmacyLookup!D:D,0)))) -> Govan
A16: Pharmacy Address 4 | B16: =IF(ISNA(INDEX(PharmacyLookup!I:I,MATCH(Contractor_Code,PharmacyLookup!D:D,0))),"Please enter details here manually",IF(INDEX(PharmacyLookup!I:I,MATCH(Contractor_Code,PharmacyLookup!D:D,0))=0,"",INDEX(PharmacyLookup!I:I,MATCH(Contractor_Code,PharmacyLookup!D:D,0)))) -> GLASGOW
A17: Pharmacy Address Postcode | B17: =IF(ISNA(INDEX(PharmacyLookup!J:J,MATCH(Contractor_Code,PharmacyLookup!D:D,0))),"Please enter details here manually",INDEX(PharmacyLookup!J:J,MATCH(Contractor_Code,PharmacyLookup!D:D,0))) -> G51 3BQ
A18: Date of submission (dd/mm/yyyy) | B18: 44118
A20: CHECKLIST
A21: PROCESS/CONTENTS (click on link in column A to go to relevant page) | B21: Completed/Signature (Yes/No)
A22: AdviceToCareHomes | B22: =IF(ISBLANK(ATCH_sig),"No","Yes") -> Yes
A23: FHS | B23: =IF(ISBLANK(FHS_sig),"No","Yes") -> Yes
A24: HepC | B24: =IF(ISBLANK(HepC_sig),"No","Yes") -> Yes
A25: Hosp Discharge (NE, NW, East Dun) | B25: =IF(ISBLANK(HD_sig),"No","Yes") -> Yes
A26: MAR Charts | B26: =IF(ISBLANK(MAR_sig),"No","Yes") -> Yes
A27: MCA | B27: =IF(ISBLANK(MCA_sig),"No","Yes") -> Yes
A28: ONS | B28: =IF(ISBLANK(ONS_sig),"No","Yes") -> Yes
A29: OOH Prescription | B29: =IF(ISBLANK(OOHP_sig),"No","Yes") -> Yes
A30: Palliative Care | B30: =IF(ISBLANK(PC_sig),"No","Yes") -> Yes
A31: Pharmacy First - COPD | B31: =IF(ISBLANK(PFCOPD_sig),"No","Yes") -> Yes
A32: Pharmacy First (Inverclyde) | B32: =IF(ISBLANK(PFINV_sig),"No","Yes") -> Yes

Sheet CoverSheet
A1: Email completed form to:
A2: ggc.cpdevteam@nhs.scot
A6: Workbook to be submitted by the 6th day of each month to ensure payment in that month. Submissions received later than the deadline may need to be held over until the following month.
A8: Please complete all details for light grey cells below
A9: Date of submission (dd/mm/yyyy)
A10: Name of person submitting workbook
A11: Designation of person submitting workbook
A12: Contractor Code
A13: Pharmacy Name | B13: =IF(ISNA(INDEX(PharmacyLookup!F:F,MATCH(Contractor_Code,PharmacyLookup!D:D,0))),"Auto Populates",INDEX(PharmacyLookup!F:F,MATCH(Contractor_Code,PharmacyLookup!D:D,0))) -> Auto Populates
A14: Pharmacy Address 1 | B14: =IF(ISNA(INDEX(PharmacyLookup!G:G,MATCH(Contractor_Code,PharmacyLookup!D:D,0))),"Auto Populates",INDEX(PharmacyLookup!G:G,MATCH(Contractor_Code,PharmacyLookup!D:D,0))) -> Auto Populates
A15: Pharmacy Address 2 | B15: =IF(ISNA(INDEX(PharmacyLookup!H:H,MATCH(Contractor_Code,PharmacyLookup!D:D,0))),"Auto Populates",IF(INDEX(PharmacyLookup!H:H,MATCH(Contractor_Code,PharmacyLookup!D:D,0))=0,"",INDEX(PharmacyLookup!H:H,MATCH(Contractor_Code,PharmacyLookup!D:D,0)))) -> Auto Populates
A16: Pharmacy Address 3 | B16: =IF(ISNA(INDEX(PharmacyLookup!I:I,MATCH(Contractor_Code,PharmacyLookup!D:D,0))),"Auto Populates",IF(INDEX(PharmacyLookup!I:I,MATCH(Contractor_Code,PharmacyLookup!D:D,0))=0,"",INDEX(PharmacyLookup!I:I,MATCH(Contractor_Code,PharmacyLookup!D:D,0)))) -> Auto Populates
A17: Pharmacy Address Postcode | B17: =IF(ISNA(INDEX(PharmacyLookup!J:J,MATCH(Contractor_Code,PharmacyLookup!D:D,0))),"Auto Populates",INDEX(PharmacyLookup!J:J,MATCH(Contractor_Code,PharmacyLookup!D:D,0))) -> Auto Populates
A18: Phone Number | B18: =IF(ISNA(INDEX(PharmacyLookup!K:K,MATCH(Contractor_Code,PharmacyLookup!D:D,0))),"Auto Populates",INDEX(PharmacyLookup!K:K,MATCH(Contractor_Code,PharmacyLookup!D:D,0))) -> Auto Populates
A19: HSCP | B19: =IF(ISNA(INDEX(PharmacyLookup!E:E,MATCH(Contractor_Code,PharmacyLookup!D:D,0))),"Auto Populates",IF(INDEX(PharmacyLookup!E:E,MATCH(Contractor_Code,PharmacyLookup!D:D,0))=0,"",INDEX(PharmacyLookup!E:E,MATCH(Contractor_Code,PharmacyLookup!D:D,0)))) -> Auto Populates
A21: CHECKLIST
A22: PROCESS/CONTENTS (click on link to go to relevant page)
A23: COPD
A24: CPNSS
A25: HepC
A26: MCA
A27: OOH Prescription
A28: Palliative Care
A29: Inverclyde MAR Pilot
A30: Virtual Wards
A31: West Dun Rota
A32: Version 4.2

Sheet COPD
A1: Back to Cover Sheet
A3: Exacerbation of COPD
A4: Pharmacy Name | C4: =Pharmacy_Address1 -> Auto Populates
A5: Contractor Code | C5: =Contractor_Code -> 0
A6: Date of Submission | C6: =Date
A8: Month of consultations: (Please chose from drop down list provided)
A10: Patient's Full Name | B10: CHI Number | C10: Date of Consultation | D10: Patient Fee
D11: =IF(C11>1/1/2023, 21.2) -> FALSE
D12: =IF(C12>1/1/2023, 21.2) -> FALSE
D13: =IF(C13>1/1/2023, 21.2) -> FALSE
D14: =IF(C14>1/1/2023, 21.2) -> FALSE
D15: =IF(C15>1/1/2023, 21.2) -> FALSE
D16: =IF(C16>1/1/2023, 21.2) -> FALSE
D17: =IF(C17>1/1/2023, 21.2) -> FALSE
D18: =IF(C18>1/1/2023, 21.2) -> FALSE
D19: =IF(C19>1/1/2023, 21.2) -> FALSE
D20: =IF(C20>1/1/2023, 21.2) -> FALSE
D21: =IF(C21>1/1/2023, 21.2) -> FALSE
D22: =IF(C22>1/1/2023, 21.2) -> FALSE
D23: =IF(C23>1/1/2023, 21.2) -> FALSE
A24: Total amount claimed £ | D24: =SUM(D11:D23) -> 0
A26: I declare that the information I have provided is correct and complete. I understand that, if I knowingly provide false information, this may result in disciplinary action and I may be liable to prosecution and civil recovery proceedings. I agree to co-operate fully with all payment verification procedures. I agree that any overpayments identified through the post payment verification procedure may be recovered at a future date by National Services Scotland for NHS GGC. NHS GGC may occasionally share information provided with other relevant parties for the purposes of payment verification, the prevention, detection and investigation of crime and future service development.
A27: Signature agreeing to Declaration and consent to share, disclose or obtain information:
A28: =Signatory -> 0
A33: #

Sheet CPNSS
A1: Back to Cover Sheet
A3: Community Pharmacy Nutritional Support Service
A4: Pharmacy Name | C4: =CoverSheet!B13 -> Auto Populates | H4: =CoverSheet!B13 -> Auto Populates
A5: Contractor Code | C5: =Contractor_Code -> 0
A6: Date of Submission | C6: =Date
A7: Claim Month (Please choose from drop down list provided)
A9: CHI Number | B9: Registration/Monitoring (please choose from drop down list) | C9: Fee | IT9: 0.0034722222
C10: =IF(B10="Registration of New Patient",5,IF(B10="Monitoring of Patient",15,""))
C11: =IF(B11="Registration of New Patient",5,IF(B11="Monitoring of Patient",15,""))
C12: =IF(B12="Registration of New Patient",5,IF(B12="Monitoring of Patient",15,""))
C13: =IF(B13="Registration of New Patient",5,IF(B13="Monitoring of Patient",15,""))
C14: =IF(B14="Registration of New Patient",5,IF(B14="Monitoring of Patient",15,""))
C15: =IF(B15="Registration of New Patient",5,IF(B15="Monitoring of Patient",15,""))
C16: =IF(B16="Registration of New Patient",5,IF(B16="Monitoring of Patient",15,""))
C17: =IF(B17="Registration of New Patient",5,IF(B17="Monitoring of Patient",15,""))
C18: =IF(B18="Registration of New Patient",5,IF(B18="Monitoring of Patient",15,""))
C19: =IF(B19="Registration of New Patient",5,IF(B19="Monitoring of Patient",15,""))
C20: =IF(B20="Registration of New Patient",5,IF(B20="Monitoring of Patient",15,""))
C23: =IF(B23="Registration of New Patient",5,IF(B23="Monitoring of Patient",15,""))
... C29: =IF(B29="Registration of New Patient",5,IF(B29="Monitoring of Patient",15,""))
A30: Total £ Claimed | C30: =SUM(C10:C29) -> 0 | D30: =SUM(D10:D29) -> 0 | E30: =SUM(E10:E29) -> 0 | F30: =SUM(F10:F29) -> 0 | G30: =SUM(G10:G29) -> 0 | H30: =SUM(H10:H29) -> 0 | I30: =SUM(I10:I29) -> 0 | J30: =SUM(J10:J29) -> 0 | ... XFD30: =SUM(XFD10:XFD29) -> 0
A32: I declare that the information I have provided is correct and complete. I understand that, if I knowingly provide false information, this may result in disciplinary action and I may be liable to prosecution and civil recovery proceedings. I agree to co-operate fully with all payment verification procedures. I agree that any overpayments identified through the post payment verification procedure may be recovered at a future date by National Services Scotland for NHS GGC. NHS GGC may occasionally share information provided with other relevant parties for the purposes of payment verification, the prevention, detection and investigation of crime and future service development.
A34: Signature agreeing to Declaration and consent to share, disclose or obtain information:
A35: =Signatory -> 0

Sheet HepC
A1: Back to Cover Sheet
A3: Hep C - Package of Care Payment
A5: Pharmacy Name | C5: =Pharmacy_Address1 -> Auto Populates
A6: Contractor Code | C6: =Contractor_Code -> 0
A7: Date of Submission | C7: =Date
C10: CHI Number | D10: Treatment Start Date | E10: Rate | F10: Total
A11: Pharmaceutical Care Payment for Hep C Treament | E11: 420 | F11: =IF(OR(ISBLANK(C11),ISBLANK(D11)),"",E11)
A12: Pharmaceutical Care Payment for Hep C Treament | E12: 420 | F12: =IF(OR(ISBLANK(C12),ISBLANK(D12)),"",E12)
A13: Pharmaceutical Care Payment for Hep C Treament | E13: 420 | F13: =IF(OR(ISBLANK(C13),ISBLANK(D13)),"",E13)
A14: Pharmaceutical Care Payment for Hep C Treament | E14: 420 | F14: =IF(OR(ISBLANK(C14),ISBLANK(D14)),"",E14)
A15: Total Payment: | F15: =SUM(F11:F14) -> 0
A17: I declare that the information I have provided is correct and complete. I understand that, if I knowingly provide false information, this may result in disciplinary action and I may be liable to prosecution and civil recovery proceedings. I agree to co-operate fully with all payment verification procedures. I agree that any overpayments identified through the post payment verification procedure may be recovered at a future date by National Services Scotland for NHS GGC. NHS GGC may occasionally share information provided with other relevant parties for the purposes of payment verification, the prevention, detection and investigation of crime and future service development.
A18: Signature agreeing to Declaration and consent to share, disclose or obtain information:
A20: =Signatory -> 0

Sheet MCAold
A1: Back to Cover Sheet
A3: MCA CLAIM FORM Multi-Compartment Compliance Aids
A4: Pharmacy Name | C4: =Pharmacy_Name -> Auto Populates
A5: Contractor Code | C5: =Contractor_Code -> 0
A6: Date | C6: =Date
A7: Claim Month
A9: PLEASE NOTE: THIS CLAIM WILL NOT BE PROCESED UNLESS ACCOMPANIED WITH A SUPPORTING INVOICE
A11: Number of patients (excluding those in Care Homes) the pharmacy is providing with MCA trays *
IP12: =IU9+TIME(0,5,0) -> 0.0034722222
B13: Omnicell | C13: Venalink | D13: Other Products
A14: Total number of Trays purchased
A15: Total £ Reinbursement Claimed
B16: Total amount claimed (excluding VAT) | D16: =SUM(B15:D15) -> 0
A18: INSERT NAME BELOW DECLARATION:
A19: I declare that the information I have provided is correct and complete. I understand that, if I knowingly provide false information, this may result in disciplinary action and I may be liable to prosecution and civil recovery proceedings. I agree to co-operate fully with all payment verification procedures. I agree that any overpayments identified through the post payment verification procedure may be recovered at a future date by National Services Scotland for NHS GG&C. NHS GG&C may occasionally share information provided with other relevant parties for the purposes of payment verification, the prevention, detection and investigation of crime and future service development.
A20: Signature agreeing to Declaration and consent to share, disclose or obtain information:
A21: =Signatory -> 0

Sheet OOH Prescription
A1: Back to Cover Sheet
A3: Out Of Hours Prescription
A4: Pharmacy Name | C4: =CoverSheet!B13 -> Auto Populates
A5: Contractor Code | C5: =Contractor_Code -> 0
A6: Date of Submission | C6: =Date
A10: Prescription Number * | B10: Date (dd/mm/yyyy) | C10: Time (hhmm) | D10: Total | IU10: =IW9+TIME(0,5,0) -> 0.0034722222
D11: =IF(B11>1/1/2023,182.32) -> FALSE
D12: =IF(B12>1/1/2023,182.32) -> FALSE
D13: =IF(B13>1/1/2023,182.32) -> FALSE
D14: =IF(B14>1/1/2023,182.32) -> FALSE
D15: =IF(B15>1/1/2023,182.32) -> FALSE
D16: =IF(B16>1/1/2023,182.32) -> FALSE
C17: Total £ | D17: =SUM(D11:D16) -> 0
A20: *Only one fee payable with multiple prescriptions
A22: PLEASE NOTE: THIS CLAIM WILL NOT BE PROCESSED UNLESS ACCOMPANIED WITH A COPY OF THE ENDORSED PRESCIPTION
A24: I declare that the information I have provided is correct and complete. I understand that, if I knowingly provide false information, this may result in disciplinary action and I may be liable to prosecution and civil recovery proceedings. I agree to co-operate fully with all payment verification procedures. I agree that any overpayments identified through the post payment verification procedure may be recovered at a future date by National Services Scotland for NHS GGC. NHS GGC may occasionally share information provided with other relevant parties for the purposes of payment verification, the prevention, detection and investigation of crime and future service development.
A26: Signature agreeing to Declaration and consent to share, disclose or obtain information:
A27: =Signatory -> 0

Sheet Palliative Care
F1: Back to Cover Sheet
F3: Community Pharmacy Palliative Care Network
F4: Pharmacy Name | H4: =CoverSheet!B13 -> Auto Populates
F5: Contractor Code | H5: =Contractor_Code -> 0
F6: Date of Submission | H6: =Date
F8: Invoice Number | G8: Medication | H8: Stock | I8: Rate | J8: Qty | K8: Price | L8: Price
G9: Please select | H9: Please select | K9: =SUM(I9*J9) -> 0
G10: Please select | H10: Please select | K10: =SUM(I10*J10) -> 0
G11: Please select | H11: Please select | K11: =SUM(I11*J11) -> 0
G12: Please select | H12: Please select | K12: =SUM(I12*J12) -> 0
G13: Please select | H13: Please select | K13: =SUM(I13*J13) -> 0
G14: Please select | H14: Please select | K14: =SUM(I14*J14) -> 0
G15: Please select | H15: Please select | K15: =SUM(I15*J15) -> 0
G16: Please select | H16: Please select | K16: =SUM(I16*J16) -> 0
G17: Please select | H17: Please select | K17: =SUM(I17*J17) -> 0
H18: TOTAL | K18: =SUM(K9:K17) -> 0
F20: I declare that the information I have provided is correct and complete. I understand that, if I knowingly provide false information, this may result in disciplinary action and I may be liable to prosecution and civil recovery proceedings. I agree to co-operate fully with all payment verification procedures. I agree that any overpayments identified through the post payment verification procedure may be recovered at a future date by National Services Scotland for NHS GGC. NHS GGC may occasionally share information provided with other relevant parties for the purposes of payment verification, the prevention, detection and investigation of crime and future service development.
F21: Signature agreeing to Declaration and consent to share, disclose or obtain information:
F22: =Signatory -> 0

Sheet PC Source
A3: Please select | C3: Please select
A4: Alfentanil 500microgram/ml 2ml injection | C4: Initial Stock Claim (new pharmacies to network only)
A5: Alfentanil 5mg/ml 1ml injection | C5: Expired Stock
A6: Clonazepam 1mg/ml 1ml injection (unlicensed) | C6: Christmas Stock
A7: Cyclizine 50mg/1ml injection
A8: Dexamethasone 3.3mg/1ml injection
A9: Dexamethasone 2mg tablets
A10: Diamorphine 5mg injection
A11: Diamorphine 10mg injection
A12: Diamorphine 30mg injection
A13: Diamorphine 100mg injection
A14: Diamorphine 500mg injection
A15: Diclofenac 75mg/3ml injection
A16: Glycopyrronium 200mcg/1ml injection
A17: Haloperidol 5mg/1ml injection
A18: Hyoscine Butylbromide 20mg/1ml injection
... A36: Sodium chloride 0.9% injection 10ml 10 amps

Sheet MCA
A1: Back to Cover Sheet
A3: MCA Claim Form
A5: Pharmacy Name | D5: =CoverSheet!B13 -> Auto Populates
A6: Contractor Code | D6: =Contractor_Code -> 0
A7: Date of Submission | D7: =Date
A9: This claim will not be processed unless the number of patients is inserted into box provided below
A11: Number of patients the pharmacy is providing with MCA trays * *(excluding those in Care Homes) * *
A12: Claim Month (Please choose from drop down list provided). | G12: Apr-2026
A14: Omnicell Products | B14: Rate | C14: Qty | D14: Price | E14: Venalink Products | F14: Rate | G14: Qty | H14: Price
A15: Please select | B15: =VLOOKUP(A15,Table1[],2,0) -> 0 | D15: =B15*C15 -> 0 | E15: Please select | F15: =VLOOKUP(E15,Table2[],2,FALSE) -> 0 | H15: =F15*G15 -> 0
A16: Please select | B16: =VLOOKUP(A16,Table1[],2,0) -> 0 | D16: =B16*C16 -> 0 | E16: Please select | F16: =VLOOKUP(E16,Table2[],2,FALSE) -> 0 | H16: =F16*G16 -> 0
A17: Please select | B17: =VLOOKUP(A17,Table1[],2,0) -> 0 | D17: =B17*C17 -> 0 | E17: Please select | F17: =VLOOKUP(E17,Table2[],2,FALSE) -> 0 | H17: =F17*G17 -> 0
A18: Please select | B18: =VLOOKUP(A18,Table1[],2,0) -> 0 | D18: =B18*C18 -> 0 | E18: Please select | F18: =VLOOKUP(E18,Table2[],2,FALSE) -> 0 | H18: =F18*G18 -> 0
A19: Please select | B19: =VLOOKUP(A19,Table1[],2,0) -> 0 | D19: =B19*C19 -> 0 | E19: Please select | F19: =VLOOKUP(E19,Table2[],2,FALSE) -> 0 | H19: =F19*G19 -> 0
A20: Please select | B20: =VLOOKUP(A20,Table1[],2,0) -> 0 | D20: =B20*C20 -> 0 | E20: Please select | F20: =VLOOKUP(E20,Table2[],2,FALSE) -> 0 | H20: =F20*G20 -> 0
A21: Please select | B21: =VLOOKUP(A21,Table1[],2,0) -> 0 | D21: =B21*C21 -> 0 | E21: Please select | F21: =VLOOKUP(E21,Table2[],2,FALSE) -> 0 | H21: =F21*G21 -> 0
A22: Carriage/Freight CPDT Use only: | D22: =SUM(B22*C22) -> 0 | E22: TOTAL | H22: =SUM(D15:D20,H15:H20) -> 0
A23: Additional CPDT Use Only: | E23: TOTAL including freight (CPDT Use only) | H23: =SUM(D22+H22) -> 0
A25: I declare that the information I have provided is correct and complete. I understand that, if I knowingly provide false information, this may result in disciplinary action and I may be liable to prosecution and civil recovery proceedings. I agree to co-operate fully with all payment verification procedures. I agree that any overpayments identified through the post payment verification procedure may be recovered at a future date by National Services Scotland for NHS GGC. NHS GGC may occasionally share information provided with other relevant parties for the purposes of payment verification, the prevention, detection and investigation of crime and future service development.
A26: PLEASE NOTE: THIS CLAIM WILL NOT BE PROCESED UNLESS ACCOMPANIED WITH A SUPPORTING INVOICE
A28: Signature agreeing to Declaration and consent to share, disclose or obtain information:
A29: =Signatory -> 0

Sheet MCA SOURCE
A2: 1 | B2: 2 | C2: 3 | D2: 4 | E2: 5 | F2: 6 | G2: 7 | H2: 8
A3: Column1 | B3: Column2 | C3: Column3 | D3: Column4 | G3: Column1 | H3: Column2
A4: Please select | G4: Please select
A5: 200-56-MP - Extra deep blisters | B5: 17.5 | G5: PB1QUBE Pill Bat Single CS (foam) Qube | H5: 1.59
A6: 657-28 - Filling templates | B6: 6 | G6: ROL1 Roller for cold seal card | H6: 7.56
A7: 660-00 - Roller | B7: 5 | G7: T12230 or T12247 Qube Card Blister | H7: 18.5
A8: 660-10 - Pillbobs | B8: 22.5 | G8: T12F236 Qube Card Trifold | H8: 41.45
A9: 710 Flap - Spare label flaps | B9: 42 | G9: TLAS_23420-004 QUBE PRO CARD (auto) | H9: 40.5
A10: Pluspak Patches - Sticky Patches For Tri-Fold Card/Blister | B10: 8 | G10: TBLIS 23659-00 AUTO QUBE BLISTER (auto) | H10: 15
A11: 3328-10A-Pack - Pack, Scottish, 28, PS,TF 250 - Trifold card | B11: 57.5 | C11: Obsolete Jan 2026 - leave for 6 months | G11: T12267 Qube Card Blister | H11: 15
A12: 584-64 (657-28) Filling templates | B12: 6 | G12: T12F261 or T12F491 Qube Card Trifold | H12: 41.45
A13: 3301-48 Automated Card, Suremed 28PS | B13: 60.95 | G13: TKITQT0001 QUBE TAB (includes seals, Insert Cards & thermoform tray) | H13: 45
A14: 3328-10B, Card, Scottish, 28, PS, TF, 250 | B14: 40.9 | G14: TLAS23420_026 Scottish Qube Pro Card | H14: 40.5
A15: 200-46-MP, Blisters 28 9IN 3-Fold | B15: 21.6 | G15: Freight Sales | H15: 10
A16: 200-65- MP (VBM) - Automated Blisters 28 Tri-Fold 7x4 (12.5ml) 250 | B16: 17.5
A17: 3301-26B - Card, Scottish, 28, PS, TF, 250 | B17: 57.5
A18: 3301-26A-Pack - Pack, English, 28, PS,TF 250 - Trifold card | B18: 57.5 | C18: Obsolete Jan 2026 - leave for 6 months
A19: Freight Sales | B19: 9.95
A21: 9.95
A22: 10

Sheet Palliative Care expiry
A1: Back to Cover Sheet
A3: Pharmacy Name | B3: =Pharmacy_Name -> Auto Populates
A4: Contractor Code | B4: =Contractor_Code -> 0
A5: Date | B5: =Date
A7: The drugs listed below constitute the core drug stock which all members of the GGC Palliative Care Network must hold in their pharmacy at all times.
A8: Expiry dates of these items should be checked once a month and stock which has expired or is due to expire within the following month replaced promptly.
A9: Please complete this the light grey cells within expiry date check form each month and send a copy to the Pharmacy & Medicines Directorate by e-mail by the
A10: 7th of each month.
E11: Expiry Dates - monthly checks Year : 2020-21
A12: DRUG | B12: Presentation | C12: Strength | D12: Pack Size | E12: Apr | F12: May | G12: Jun | H12: Jul | I12: Aug | J12: Sep | K12: Oct | L12: Nov | M12: Dec | N12: Jan | O12: Feb | P12: Mar
A13: Morphine | B13: Injection | C13: 10mg in 1mL | D13: 3 x 10
A14: Morphine | B14: Injection | C14: 30mg in 1mL | D14: 3 x10
A15: Morphine Sulphate | B15: Liquid | C15: 10mg in 5mL | D15: 2 x 300mL
A16: Morphine Sulphate (Sevredol) | B16: Tablets | C16: 10mg | D16: 1 x 56
A17: Morphine Sulphate (MST Continus) | B17: M.R. Tablets | C17: 10mg | D17: 1 x 60
A18: Morphine Sulphate (MST Continus) | B18: M.R. Tablets | C18: 30mg | D18: 1 x 60
A19: Oxycodone | B19: Injection | C19: 20mg in 2mL | D19: 3 x
A20: Oxycodone | B20: Liquid | C20: 5mg in 5mL | D20: 1 x 250mL
A21: Oxycodone (Shortec) | B21: Capsules | C21: 10mg | D21: 1 x 56
A22: Oxycodone (Longtec) | B22: M.R. Tablets | C22: 10mg | D22: 1 x 56
A23: Hydromorphone (Palladone) | B23: Capsules | C23: 1.3mg | D23: 1 x 56
A24: Hydromorphone (Palladone SR) | B24: M.R.Capsules | C24: 2mg | D24: 1 x 56
... A41: Dexamethasone | B41: Tablets | C41: 2mg | D41: 1 x 50
A42: Water for Injections | B42: Injection | D42: 2 x 20 x 10mL
A43: Sodium Chloride 0.9% | B43: Injection | D43: 20 x 10mL
A45: INSERT NAME BELOW DECLARATION:
A46: Declaration : I declare that the information I have given on this form is correct and I understand that if it is not, action may be taken against me. I acknowledge that this information will be authenticated from appropriate records, and that any payment made to my pharmacy based on this information, will be subject to Payment Verification. Where NHS Grampian is unable to obtain authentication, I acknowledge that the onus is on my pharmacy to retain and provide, when requested, documentary evidence to support the information provided.
A47: signature

Sheet Inverclyde MAR Pilot
A1: Back to Cover Sheet
A4: Pharmacy Name | C4: =CoverSheet!B13 -> Auto Populates
A5: Contractor Code | C5: =Contractor_Code -> 0
A6: Date of Submission | C6: =Date
A9: Patient CHI Number | B9: Date Transferred to New Service (**/**/****) | C9: Month Claimed For | D9: Payment Claimed | IU9: =IV8+TIME(0,5,0) -> 0.0034722222
D10: =IF((ISTEXT(A10)),30) -> FALSE
D11: =IF((ISTEXT(A11)),30) -> FALSE
D12: =IF((ISTEXT(A12)),30) -> FALSE
D13: =IF((ISTEXT(A13)),30) -> FALSE
D14: =IF((ISTEXT(A14)),30) -> FALSE
D15: =IF((ISTEXT(A15)),30) -> FALSE
D16: =IF((ISTEXT(A16)),30) -> FALSE
D17: =IF((ISTEXT(A17)),30) -> FALSE
D18: =IF((ISTEXT(A18)),30) -> FALSE
D19: =IF((ISTEXT(A19)),30) -> FALSE
C20: Total £ | D20: =SUM(D10:D19) -> 0
A23: PLEASE NOTE: THIS CLAIM WILL NOT BE PROCESSED FOR DATES THAT DO NO CORRESPOND TO THE ROTA INFORMATION PUBLISHED BY CPDT
A25: I declare that the information I have provided is correct and complete. I understand that, if I knowingly provide false information, this may result in disciplinary action and I may be liable to prosecution and civil recovery proceedings. I agree to co-operate fully with all payment verification procedures. I agree that any overpayments identified through the post payment verification procedure may be recovered at a future date by National Services Scotland for NHS GGC. NHS GGC may occasionally share information provided with other relevant parties for the purposes of payment verification, the prevention, detection and investigation of crime and future service development.
A27: Signature agreeing to Declaration and consent to share, disclose or obtain information:
A28: =Signatory -> 0

Sheet Virtual Wards
F1: Back to Cover Sheet
F3: Community Pharmacy Virtual Wards
F4: Pharmacy Name | H4: =CoverSheet!B13 -> Auto Populates
F5: Contractor Code | H5: =Contractor_Code -> 0
F6: Date of Submission | H6: =Date
F8: Patient CHI Number | G8: All medicines supplied are listed on the Medicines A–Z Lookup List. Please use drop-down menu | H8: Supply / Transport Claim (please choose from drop down list) Please use drop-down menu | I8: Fee | J8: Qty | K8: Total | L8: Price
G9: Please select | H9: Please select | I9: =IF(TRIM(H9)="Supply Payment",2,IF(TRIM(H9)="Transport Payment",20,"")) | K9: =IFERROR(I9*J9,0) -> 0
I10: =IF(TRIM(H10)="Supply Payment",2,IF(TRIM(H10)="Transport Payment",20,"")) | K10: =IFERROR(I10*J10,0) -> 0
I11: =IF(TRIM(H11)="Supply Payment",2,IF(TRIM(H11)="Transport Payment",20,"")) | K11: =IFERROR(I11*J11,0) -> 0
I12: =IF(TRIM(H12)="Supply Payment",2,IF(TRIM(H12)="Transport Payment",20,"")) | K12: =IFERROR(I12*J12,0) -> 0
I13: =IF(TRIM(H13)="Supply Payment",2,IF(TRIM(H13)="Transport Payment",20,"")) | K13: =IFERROR(I13*J13,0) -> 0
I14: =IF(TRIM(H14)="Supply Payment",2,IF(TRIM(H14)="Transport Payment",20,"")) | K14: =IFERROR(I14*J14,0) -> 0
I15: =IF(TRIM(H15)="Supply Payment",2,IF(TRIM(H15)="Transport Payment",20,"")) | K15: =IFERROR(I15*J15,0) -> 0
I16: =IF(TRIM(H16)="Supply Payment",2,IF(TRIM(H16)="Transport Payment",20,"")) | K16: =IFERROR(I16*J16,0) -> 0
I17: =IF(TRIM(H17)="Supply Payment",2,IF(TRIM(H17)="Transport Payment",20,"")) | K17: =IFERROR(I17*J17,0) -> 0
I18: =IF(TRIM(H18)="Supply Payment",2,IF(TRIM(H18)="Transport Payment",20,"")) | K18: =IFERROR(I18*J18,0) -> 0
I19: =IF(TRIM(H19)="Supply Payment",2,IF(TRIM(H19)="Transport Payment",20,"")) | K19: =IFERROR(I19*J19,0) -> 0
I20: =IF(TRIM(H20)="Supply Payment",2,IF(TRIM(H20)="Transport Payment",20,"")) | K20: =IFERROR(I20*J20,0) -> 0
I21: =IF(TRIM(H21)="Supply Payment",2,IF(TRIM(H21)="Transport Payment",20,"")) | K21: =IFERROR(I21*J21,0) -> 0
... I24: =IF(TRIM(H24)="Supply Payment",2,IF(TRIM(H24)="Transport Payment",20,"")) | K24: =IFERROR(I24*J24,0) -> 0
H25: TOTAL | K25: =SUM(K9:K24) -> 0
F27: I declare that the information I have provided is correct and complete. I understand that, if I knowingly provide false information, this may result in disciplinary action and I may be liable to prosecution and civil recovery proceedings. I agree to co-operate fully with all payment verification procedures. I agree that any overpayments identified through the post payment verification procedure may be recovered at a future date by National Services Scotland for NHS GGC. NHS GGC may occasionally share information provided with other relevant parties for the purposes of payment verification, the prevention, detection and investigation of crime and future service development.
F28: Signature agreeing to Declaration and consent to share, disclose or obtain information:
F29: =Signatory -> 0

Sheet West Dun Rota
A1: Back to Cover Sheet
A3: West Dunbartonshire Rota Service
A4: Pharmacy Name | C4: =CoverSheet!B13 -> Auto Populates
A5: Contractor Code | C5: =Contractor_Code -> 0
A6: Date of Submission | C6: =Date
A10: Date Rota Undertaken | B10: Hours Opened (e.g. 1.00pm - 2.00pm) | C10: Number of hours claimed | D10: Payment Claimed @ £118.72 per hour | IU10: =IV9+TIME(0,5,0) -> 0.0034722222
D11: =C11*118.72 -> 0
D12: =C12*118.72 -> 0
D13: =C13*118.72 -> 0
D14: =C14*118.72 -> 0
C16: Total £ | D16: =SUM(D11:D14) -> 0
A20: PLEASE NOTE: THIS CLAIM WILL NOT BE PROCESSED FOR DATES THAT DO NO CORRESPOND TO THE ROTA INFORMATION PUBLISHED BY CPDT
A22: I declare that the information I have provided is correct and complete. I understand that, if I knowingly provide false information, this may result in disciplinary action and I may be liable to prosecution and civil recovery proceedings. I agree to co-operate fully with all payment verification procedures. I agree that any overpayments identified through the post payment verification procedure may be recovered at a future date by National Services Scotland for NHS GGC. NHS GGC may occasionally share information provided with other relevant parties for the purposes of payment verification, the prevention, detection and investigation of crime and future service development.
A24: Signature agreeing to Declaration and consent to share, disclose or obtain information:
A25: =Signatory -> 0

Sheet Tasklist
A1: Version 3.6 | B1: 46143
A3: Contractor Code | B3: =Contractor_Code -> 0
A4: Pharmacy Name | B4: =Pharmacy_Address1 -> Auto Populates
A5: Pharmacy Address 1 | B5: =Pharmacy_Address2 -> Auto Populates
A6: Pharmacy Address 2 | B6: =Pharmacy_Address4 -> Auto Populates
A7: Pharmacy Address 3 | B7: =CoverSheet!B16 -> Auto Populates
A8: Pharmacy Address Postcode | B8: =CoverSheet!B17 -> Auto Populates
A9: Phone Number | B9: =CoverSheet!B18 -> Auto Populates
A10: HSCP | B10: =CoverSheet!B19 -> Auto Populates
A11: Date of Submission (dd/mm/yyyy) | B11: =Date
A14: Task list (columns B and C change to black once a completed date is entered into column D)
A15: PROCESS/CONTENTS (click on link in column A to go to relevant page) | B15: NAME | C15: PROCESS | D15: PROCESSED DATE (dd/mm/yyyy)
A16: COPD | B16: Michelle Cooper | C16: Check claim form
A17: CPNSS | B17: Various | C17: Check claim form
A18: HepC | B18: Carolanne Coll | C18: Check claim form
A19: MCA | B19: Michelle Cooper | C19: Check invoice
A20: OOH Prescription | B20: Michelle Cooper | C20: Check invoice
A21: Palliative Care | B21: Michelle Cooper | C21: Check invoice
A22: Inverclyde MAR Pilot | B22: Carolanne Coll | C22: Check claim form
A23: Virtual Wards | B23: Michelle Cooper | C23: Check claim form
A24: West Dun Rota | B24: Michelle Cooper | C24: Check Rota Information
A26: Notes of Explanation

Sheet Version Control
A1: Version Control
A6: Version | B6: Claim | C6: Amendment Made | E6: Name of Person | G6: Checked | H6: Date made
A7: 2.2 | B7: Cover Sheet | C7: Increased font size of request to complete grey cells to 14 | E7: Janine Glen | G7: Trish Cawley | H7: 45688
A8: 2.2 | B8: Cover Sheet | C8: Amended look up details for contractor code | E8: Janine Glen | G8: Trish Cawley | H8: 45688
A9: 2.2 | B9: Cover Sheet | C9: Changed Version Number from 2.2 to 3. | E9: Janine Glen | G9: Trish Cawley | H9: 45688
A10: 2.2 | B10: COPD | C10: Amended "Date" field to read "Date of Submission" | E10: Janine Glen | G10: Trish Cawley | H10: 45688
A11: 2.2 | B11: COPD | C11: Inserted look up list for claiming month | E11: Janine Glen | G11: Trish Cawley | H11: 45688
A12: 2.2 | B12: CPNSS | C12: Amended "Date" field to read "Date of Submission" | E12: Janine Glen | G12: Trish Cawley | H12: 45688
A13: 2.2 | B13: CPNSS | C13: Inserted look up list for claiming month | E13: Janine Glen | G13: Trish Cawley | H13: 45688
A14: 2.2 | B14: CPNSS | C14: Amended format of claiming month so that it comes out as a date | E14: Janine Glen | G14: Trish Cawley | H14: 45688
A15: 2.2 | B15: CPNSS | C15: Amended Form so that Column C automatically inserts fee from drop down list | E15: Janine Glen | G15: Trish Cawley | H15: 45688
A16: 2.2 | B16: Hep C | C16: Amended "Date" field to read "Date of Submission" | E16: Janine Glen | G16: Trish Cawley | H16: 45688
A17: 2.2 | B17: Hospital Discharge | C17: Sheet deleted - Service has ended | E17: Janine Glen | G17: Trish Cawley | H17: 45688
A18: 2.2 | B18: OOH Prescription | C18: Amended "Date" field to read "Date of Submission" | E18: Janine Glen | G18: Trish Cawley | H18: 45688
... A40: 1.7 | B40: Cover Sheet | C40: Date of Submission field moved to top of section and font enlarged | E40: Janine Glen | G40: Trish Cawley | H40: 414250
A41: 1.6
A42: 1.5 | B42: Task List | C42: Changed Karens name to Lauren | E42: Lauren Keenan | G42: Janine Glen | H42: 45197
A43: 1.5 | B43: Task List | C43: FHS Category removed | E43: Janine Glen | G43: Lauren Keenan | H43: 45195
A44: 1.5 | B44: Cover Sheet | C44: FHS Category removed | E44: Janine Glen | G44: Lauren Keenan | H44: 45195
A45: 1.5 | B45: FHS | C45: Sheet Removed | E45: Janine Glen | G45: Lauren Keenan | H45: 45195
A46: 1.5 | B46: Look Up Sheet | C46: Updated | E46: Janine Glen | G46: Lauren Keenan | H46: 45195
A47: 1.4 | B47: Look Up Sheet | C47: Updated | E47: Janine Glen | G47: Lauren Keenan | H47: 45168
A48: 1.3 | B48: Look Up Sheet | C48: Updated | E48: Janine Glen | G48: Karen Armstrong | H48: 45138
A49: 1.3 | B49: Rota | C49: Rota fee should be £106.66 | E49: Janine Glen | G49: Karen Armstrong | H49: 45138
A50: 1.2 | B50: FHS | C50: Fee for day time meetings increased to £185.00 | E50: Janine Glen | G50: Karen Armstrong | H50: 45103
A51: 1.1 | B51: MCA | C51: Formula moved to allow CoverSheet to change colour | E51: Janine Glen | G51: Karen Armstrong | H51: 45085
A52: 1.1 | B52: CPNSS | C52: Field added to Record Claiming Month | E52: Janine Glen | G52: Karen Armstrong | H52: 45085
A53: 1.1 | B53: FHS | C53: Field added for "Name of Person who Attended Meeting" | E53: Janine Glen | G53: Karen Armstrong | H53: 45085
... A66: 2.2 | B66: CPNSS | C66: Further direction included to direct contractors to claiming month drop down list | E66: Janine Glen | G66: Trish Cawley | H66: 45694
A67: 3 | B67: MCA | C67: Fixed the glitch with the Drop down list for Venalink products | E67: Michelle Cooper | H67: 45762
A68: 3.1 | B68: Inverclyde MAR Pilot | C68: Added claim form for this pilot service which started on 01/07/2025 | E68: Janine Glen | H68: 45854
A69: 3.1 | B69: Look Up Sheet | C69: Updated | E69: Janine Glen | H69: 45854
A70: 3.1 | B70: Cover Sheet | C70: Version Number Updated | E70: Janine Glen | H70: 45854
A71: 3.1 | B71: Tasklist | C71: Added line for Inverclyde MAR Pilot | E71: Janine Glen | H71: 45854
A72: 3.1 | B72: Tasklist | C72: Version Number Updated | E72: Janine Glen | H72: 45854
A73: 3.1 | B73: Inverclyde MAR Pilot | C73: Patient CHI Number cells formatted for Text to show CHI No's beginning with zero | E73: Bridie | H73: 45860
A74: 3.2 | B74: Pharmacy LookUp | C74: Updated details added | E74: Janine Glen | H74: 45957
A75: 3.4 | B75: MCA | C75: Added fright/carriage column | E75: Lianne Hatch | H75: 46007
A76: 3.5 | B76: Pharmacy LookUp | C76: Updated details added & Changes to Omnicel products - update to the drop down menu | E76: Lianne Hatch | H76: 46036
A77: 3.6 | B77: Uplifts | C77: Worbook amended with new 6% uplift | E77: Lianne Hatch | H77: 46142
...

Sheet PharmacyLookup
A1: z
B2: Date downloaded 06/03/2024 | D2: Last Downloaded: 05/05/2026
B3: JG
B4: No of Items (Dispensed) | C4: Dispenser Health Board Name | D4: Dispenser Reference | E4: HSCP | F4: Pharmacy Name | G4: Dispenser Address Line 1 | H4: Dispenser Address Line 2 | I4: Dispenser Address Line 3 | J4: Dispenser Post Code
D5: 1030 | E5: Glasgow City HSCP - North West | F5: Bannerman's Pharmacy | G5: 220/222 Saracen Street | H5: Possilpark | I5: GLASGOW | J5: G22 5ER | K5: 0141 336 8114 | L5: pharm.CP1042485clinical@nhs.scot
D6: 1036 | E6: Glasgow City HSCP - North East | F6: Asda Pharmacy | G6: Pharmacy Dept Monument Drive | H6: Robroyston | I6: GLASGOW | J6: G33 1AD | K6: 0141 557 6210 | L6: pharm.CP1074455clinical@nhs.scot
D7: 1049 | E7: East Dunbartonshire HSCP | F7: Boots UK | G7: 3 The Triangle Centre | H7: Bishopbriggs | I7: GLASGOW | J7: G64 2TR | K7: 0141 772 0070 | L7: pharm.CP1042514clinical@nhs.scot
D8: 1050 | E8: Glasgow City HSCP - North West | F8: Boots UK | G8: 277 Byres Road | H8: Partick | I8: GLASGOW | J8: G12 8TL | K8: 0141 339 1954 | L8: pharm.CP1042286clinical@nhs.scot
D9: 1051 | E9: East Dunbartonshire HSCP | F9: Boots UK | G9: 6 Main Street | H9: Milngavie | I9: GLASGOW | J9: G62 6BL | K9: 0141 956 1241 | L9: pharm.CP1041994clinical@nhs.scot
D10: 1054 | E10: East Dunbartonshire HSCP | F10: Boots UK | G10: 9, The Regent Centre | H10: Kirkintilloch | I10: GLASGOW | J10: G66 1JH | K10: 0141 776 3418 | L10: pharm.CP1042476clinical@nhs.scot
D11: 1056 | E11: Glasgow City HSCP - North West | F11: Boots UK | G11: 368 Dumbarton Road | H11: Partick | I11: GLASGOW | J11: G11 6RZ | K11: 0141 339 4565 | L11: pharm.CP1042348clinical@nhs.scot
D12: 1057 | E12: Glasgow City HSCP - North West | F12: Boots UK | G12: Level 3 Buchanan Galleries | I12: GLASGOW | J12: G1 2GF | K12: 0141 333 9306 | L12: pharm.CP1042281clinical@nhs.scot
D13: 1058 | E13: West Dunbartonshire HSCP | F13: Boots UK | G13: 98 Sylvania Way | H13: Clydebank Shopping Centre | I13: CLYDEBANK | J13: G81 2TL | K13: 0141 952 2217 | L13: pharm.CP1041975clinical@nhs.scot
D14: 1059 | E14: Glasgow City HSCP - North West | F14: Possil Pharmacy | G14: 171-173 Saracen Street | H14: Possilpark | I14: GLASGOW | J14: G22 5JL | K14: 0141 336 8075 | L14: pharm.CP1042488clinical@nhs.scot
D15: 1060 | E15: Glasgow City HSCP - North West | F15: Boots UK | G15: Unit 2, Central Station | H15: 79 Gordon Street | I15: GLASGOW | J15: G1 3SL | K15: 0141 223 7650 | L15: pharm.CP1090077clinical@nhs.scot
D16: 1062 | E16: East Renfrewshire HSCP | F16: Boots UK | G16: 4-5 The Avenue At Mearns | H16: Newton Mearns | I16: GLASGOW | J16: G77 6EY | K16: 0141 639 5979 | L16: pharm.CP1042263clinical@nhs.scot
D17: 1064 | E17: Glasgow City HSCP - South | F17: Boots UK | G17: Unit A 92 Kilmarnock Road | H17: Shawlands | I17: GLASGOW | J17: G41 3NN | K17: 0141 632 0924 | L17: pharm.CP1042402clinical@nhs.scot
D18: 1066 | E18: Glasgow City HSCP - South | F18: Boots UK | G18: 2115-2119 Paisley Road West | H18: South Cardonald | I18: GLASGOW | J18: G52 3JL | K18: 0141 882 1063 | L18: pharm.CP1042463clinical@nhs.scot
D19: 1068 | E19: Glasgow City HSCP - North West | F19: Boots UK | G19: 200 Sauchiehall Street | I19: GLASGOW | J19: G2 3EN | K19: 0141 332 1925 | L19: pharm.CP1042496clinical@nhs.scot
D20: 1072 | E20: Glasgow City HSCP - North West | F20: Boots UK | G20: 55 St Enoch Centre | H20: St Enoch Square | I20: GLASGOW | J20: G1 4LZ | K20: 0141 248 7387 | L20: pharm.CP1042352clinical@nhs.scot
D21: 1076 | E21: Glasgow City HSCP - South | F21: Your Local Boots Pharmacy | G21: 417 Victoria Road | H21: Crosshill | I21: GLASGOW | J21: G42 8RW | K21: 0141 423 1065 | L21: pharm.CP1042525clinical@nhs.scot
D22: 1078 | E22: Glasgow City HSCP - North East | F22: Royston Pharmacy | G22: 119 Royston Road | H22: Royston | I22: GLASGOW | J22: G21 2QN | K22: 0141 552 4116 | L22: pharm.CP1042473clinical@nhs.scot
D23: 1116 | E23: West Dunbartonshire HSCP | F23: Clan Chemists | G23: 3 Rockbank Place | H23: Hardgate Cross | I23: CLYDEBANK | J23: G81 5NZ | K23: 01389 873 764 | L23: pharm.CP1041974clinical@nhs.scot
D24: 1133 | E24: Glasgow City HSCP - North East | F24: Dickson Chemist | G24: 21 Main Street | H24: Bridgeton | I24: GLASGOW | J24: G40 1QA | K24: 0141 556 6729 | L24: pharm.CP1042518clinical@nhs.scot
D25: 1134 | E25: Glasgow City HSCP - North East | F25: Dickson Chemist | G25: 1024 Tollcross Road | H25: Tollcross | I25: GLASGOW | J25: G32 8UW | K25: 0141 778 3310 | L25: pharm.CP1085493clinical@nhs.scot
D26: 1143 | E26: Glasgow City HSCP - South | F26: Docherty Pharmacy | G26: 224 Kilmarnock Road | H26: Shawlands | I26: GLASGOW | J26: G43 1TY | K26: 0141 632 3356 | L26: pharm.CP1042394clinical@nhs.scot
D27: 1174 | E27: East Dunbartonshire HSCP | F27: M Farren Limited | G27: 133 Main Street | H27: Lennoxtown | I27: GLASGOW | J27: G66 7DB | K27: 01360 312 458 | L27: pharm.CP1042413clinical@nhs.scot
D28: 1204 | E28: Glasgow City HSCP - North East | F28: Gilbride Chemists | G28: 170 Carmyle Avenue | H28: Carmyle | I28: GLASGOW | J28: G32 8EE | K28: 0141 641 3880 | L28: pharm.CP1042312clinical@nhs.scot
D29: 1205 | E29: Glasgow City HSCP - South | F29: Gilbride Chemists | G29: 92 Langlands Road | H29: Govan | I29: GLASGOW | J29: G51 3BQ | K29: 0141 445 2087 | L29: pharm.CP1042404clinical@nhs.scot
D30: 1208 | E30: Glasgow City HSCP - South | F30: Gilbride Chemists | G30: 2232 Paisley Road West | H30: Cardonald | I30: GLASGOW | J30: G52 3SJ | K30: 0141 882 2046 | L30: pharm.CP1042467clinical@nhs.scot
D31: 1214 | E31: Glasgow City HSCP - South | F31: Govanhill Pharmacy Ltd | G31: Govanhill Health Centre | H31: 233 Calder Street | I31: GLASGOW | J31: G42 7DR | K31: 0141 423 5530 | L31: pharm.CP1042324clinical@nhs.scot
... D63: 1538 | E63: Glasgow City HSCP - South | F63: Harmony Row Pharmacy | G63: 21 Harmony Row | H63: Govan | I63: GLASGOW | J63: G51 3BA | K63: 0141 445 5135 | L63: pharm.CP1042390clinical@nhs.scot
D64: 1539 | E64: Glasgow City HSCP - North West | F64: Partick Pharmacy | G64: 160 Dumbarton Road | I64: GLASGOW | J64: G11 6XE | K64: 0141 334 4840 | L64: pharm.CP1042391clinical@nhs.scot
D65: 1540 | E65: Glasgow City HSCP - South | F65: Gilbride Chemists | G65: 182 Copland Road | H65: Ibrox | I65: GLASGOW | J65: G51 2UE | K65: 0141 427 1676 | L65: pharm.CP1042303clinical@nhs.scot
D66: 1541 | E66: Glasgow City HSCP - South | F66: Gilbride Chemists | G66: 18 Glenmore Avenue | H66: Toryglen | I66: GLASGOW | J66: G42 0EH | K66: 0141 647 3364 | L66: pharm.CP1089080clinical@nhs.scot
D67: 1542 | E67: Glasgow City HSCP - South | F67: Rowlands Pharmacy | G67: 116 Nithsdale Road | H67: Pollokshields | I67: GLASGOW | J67: G41 5RB | K67: 0141 423 0086 | L67: pharm.CP1042444clinical@nhs.scot
D68: 1545 | E68: Glasgow City HSCP - South | F68: Mackie Pharmacy | G68: 1845 Paisley Road West | H68: Cardonald | I68: GLASGOW | J68: G52 3SX | K68: 0141 882 8535 | L68: pharm.CP1042458clinical@nhs.scot
D69: 1549 | E69: East Dunbartonshire HSCP | F69: Graeme Pharmacy | G69: 33 Station Road | H69: Milngavie | I69: GLASGOW | J69: G62 8PG | K69: 0141 956 1710 | L69: pharm.CP1041995clinical@nhs.scot
D70: 1550 | E70: East Renfrewshire HSCP | F70: Scots Pharmacy | G70: 665 Clarkston Road | H70: Netherlee | I70: GLASGOW | J70: G44 3SE | K70: 0141 637 6000 | L70: pharm.CP1088619clinical@nhs.scot
D71: 1553 | E71: Glasgow City HSCP - South | F71: Rowlands Pharmacy | G71: 456 Paisley Road West | H71: North Kinning Park | I71: GLASGOW | J71: G51 1PX | K71: 0141 427 0424 | L71: pharm.CP1042452clinical@nhs.scot
...

Sheet Virtual Wards list
A1: Please select | D1: Please select
A2: Supply Payment | B2: 2 | D2: I confirm the above statement
A3: Transport Payment | B3: 20
