Workbook
Name Contractor_Code: 'Cover Sheet'!$B$13
Name Date: 'Cover Sheet'!$B$10
Name FHS_sig: #REF!
Name HD_sig: #REF!
Name HepC_sig: #REF!
Name MAR_sig: #REF!
Name MCA_sig: #REF!
Name ONS_sig: #REF!
Name OOHP_sig: #REF!
Name PC_sig: #REF!
Name PFCOPD_sig: 'Advice to Care Homes'!#REF!
Name PFCOPD_sig: 'Care at Home'!#REF!
Name PFCOPD_sig: Clozapine!#REF!
Name PFCOPD_sig: 'Collection & Delivery'!#REF!
Name PFCOPD_sig: MDS!#REF!
Name PFCOPD_sig: 'Needle Exchange'!#REF!
Name PFCOPD_sig: 'OST Service'!#REF!
Name PFCOPD_sig: 'Other Services -Office Use Only'!#REF!
Name PFCOPD_sig: 'Palliative Care'!#REF!
Name PFCOPD_sig: Vaccinations!#REF!
Name PFCOPD_sig: #REF!
Name PFINV_sig: #REF!
Name Pharmacy_Address1: 'Cover Sheet'!$B$14
Name Pharmacy_Address2: 'Cover Sheet'!$B$15
Name Pharmacy_Address3: 'Cover Sheet'!#REF!
Name Pharmacy_Address4: 'Cover Sheet'!$B$16
Name Pharmacy_Address5: 'Cover Sheet'!#REF!
Name Pharmacy_Name: 'Cover Sheet'!$B$18
Name Pharmacy_Postcode: 'Cover Sheet'!#REF!
Name Signatory: 'Cover Sheet'!$B$11

Sheet Cover Sheet
A1: Email completed form to:
A2: nhsh.cpsoffice@nhs.scot
A3: Version 5.1
A4: Updated 23rd September 2026
A6: Claim to be submitted by the 10th day of each month to ensure payment in that month. Claims for more than 3 months in arrears cannot be processed on this form, only by contacting CPS Office.
A8: Please complete all details in the green cells below | D8: Checklist
A9: Please enter the month on which this claim relates to | B9: May | D9: PROCESS/CONTENTS (click on link to direct to relevant tab)
A10: Date of submission (dd/mm/yyyy) | B10: 45817 | D10: Needle Exchange
A11: Name of person submitting workbook | B11: Joe Bloggs | D11: Vaccinations
A12: Designation of person submitting workbook | B12: Community Pharmacy Services | D12: Board Approved Collection & Delivery Service
A13: Contractor Code | D13: Palliative Care
A14: Pharmacy Name | B14: =IF(ISNA(INDEX(PharmacyLookup!E:E,MATCH(Contractor_Code,PharmacyLookup!D:D,0))),"Auto Populates",INDEX(PharmacyLookup!E:E,MATCH(Contractor_Code,PharmacyLookup!D:D,0))) -> Auto Populates | D14: Medication Compliance Support
A15: Pharmacy Address | B15: =IF(ISNA(INDEX(PharmacyLookup!F:F,MATCH(Contractor_Code,PharmacyLookup!D:D,0))),"Auto Populates",INDEX(PharmacyLookup!F:F,MATCH(Contractor_Code,PharmacyLookup!D:D,0))) -> Auto Populates | D15: Advice to Care Homes
A16: Town | B16: =IF(ISNA(INDEX(PharmacyLookup!G:G,MATCH(Contractor_Code,PharmacyLookup!D:D,0))),"Auto Populates",IF(INDEX(PharmacyLookup!G:G,MATCH(Contractor_Code,PharmacyLookup!D:D,0))=0,"",INDEX(PharmacyLookup!G:G,MATCH(Contractor_Code,PharmacyLookup!D:D,0)))) -> Auto Populates | D16: Care at Home
A17: Postcode | B17: =IF(ISNA(INDEX(PharmacyLookup!H:H,MATCH(Contractor_Code,PharmacyLookup!D:D,0))),"Auto Populates",INDEX(PharmacyLookup!H:H,MATCH(Contractor_Code,PharmacyLookup!D:D,0))) -> Auto Populates | D17: Clozapine
A18: Area | B18: =IF(ISNA(INDEX(PharmacyLookup!I:I,MATCH(Contractor_Code,PharmacyLookup!D:D,0))),"Auto Populates",IF(INDEX(PharmacyLookup!I:I,MATCH(Contractor_Code,PharmacyLookup!D:D,0))=0,"",INDEX(PharmacyLookup!I:I,MATCH(Contractor_Code,PharmacyLookup!D:D,0)))) -> Auto Populates | D18: Opioid Substitution Therapy
A20: Total payment for this claim | B20: ='Transfer sheet-Office Use Only'!AG2 -> 0

Sheet Needle Exchange
A1: Needle Exchange | D1: Notes (office use only)
A2: Month claimed for | B2: ='Cover Sheet'!B9 -> May
A3: Pharmacy Name | B3: =Pharmacy_Address1 -> Auto Populates
A4: Contractor Code | B4: =Contractor_Code -> 0
A5: Date of submission | B5: =Date -> 45817
A7: Annual Fee (automatically paid - contractors do not need to claim for this)
A8: Size of Provider | C8: Office use only
A9: Needle Exchange Annual Fee | B9: =IF(B8="Retained (£200)", 200, IF(B8="Small (£450)", 450, IF(B8="Medium (£800)", 800, IF(B8="Large (£950)", 950, "0")))) -> 0
A11: Please enter numbers in the green coloured cells below
A12: Needle Exchange Transactions
A13: Total Number of Needle Exchange Transactions
A14: Number between 1 - 30 (£15 per transaction) | B14: =IF(B13>=30,30,B13) -> 0
A15: Number between 31 - 70 (£10 per transaction) | B15: =IF(B13>=70,40,(B13-B14)) -> 0
A16: 71 and over (£5 per transaction) | B16: =IF(B13>70,(B13-(B14+B15)),0) -> 0
A17: Transaction Payment total | B17: =(B14*15)+(B15*10)+(B16*5) -> 0
A19: Needle exchange total payment | B19: =B9+B17 -> 0
A21: I declare that the information I have provided is correct and complete. I understand that, if I knowingly provide false information, thiis may be liable to prosecution and civil recovery proceedings. I agree to co-operate fully with all payment verification procedures. I agree that any overpayments identified through the post payment verification procedure may be recovered at a future date by National Services Scotland for NHS Highland.
A22: Signature agreeing to Declaration and consent to share, disclose or obtain information:
A23: ='Cover Sheet'!B11 -> Joe Bloggs
A39: Retained (£200)
A40: Small (£450)
A41: Medium (£800)
A42: Large (£950)

Sheet Vaccinations
A1: Back to Cover Sheet
A3: Vaccination Service | D3: Notes (Office use only)
A4: Month claimed for | B4: ='Cover Sheet'!B9 -> May
A5: Pharmacy Name | B5: =Pharmacy_Address1 -> Auto Populates
A6: Contractor Code | B6: =Contractor_Code -> 0
A7: Date of submission | B7: =Date -> 45817
A9: Please enter numbers in the green coloured cells below
A10: Contractors are not required to claim for Flu and Covid as this is automatically paid. Please still claim for travel vaccinations
A11: Travel Vaccinations
A12: Travel Vaccinations Set Up Fee (£265) | C12: Office Use Only
A13: No. of risk assesments/consultations (£40 per patient)
A14: No. of travel vaccinations (£9 per vaccination)
A15: Return appointment for booster vaccination (£10.60 per administration)
A16: Travel Vaccine Total | B16: =(B13*40)+(B14*9)+(B12)+(B32)+(B15*10.6) -> 0
A18: Flu Vaccinations
A19: Flu Vaccination Set Up Fee (£265) | C19: Office Use Only
A20: No. of flu vaccinations (£10.60 per vaccination) | B20: 0 | C20: Office Use Only
A21: Flu Vaccine Total | B21: =(B20*10.6)+(B19) -> 0
A23: COVID Vaccinations
A24: COVID Vaccination Set Up Fee (£265) | C24: Office Use Only
A25: No. of COVID vaccinations (£14 per vaccination)
A26: COVID Vaccine Total | B26: =(B25*14)+(B24) -> 0
A28: Co-administration Vaccinations (Flu & COVID)
A29: No. of co-admistration vaccinations (£21.20 co-administration) | C29: Office Use Only
A30: Co-administration Vaccine Total
A32: Backdate of Travel Vaccination Fees | C32: Office Use Only
B33: 0
A34: I declare that the information I have provided is correct and complete. I understand that, if I knowingly provide false information, thiis may be liable to prosecution and civil recovery proceedings. I agree to co-operate fully with all payment verification procedures. I agree that any overpayments identified through the post payment verification procedure may be recovered at a future date by National Services Scotland for NHS Highland.
A35: Signature agreeing to Declaration and consent to share, disclose or obtain information:
A36: ='Cover Sheet'!B11 -> Joe Bloggs
A37: 265
A50: 265

Sheet Collection & Delivery
A1: Back to Cover Sheet
A3: Board Approved Collection & Delivery Service | D3: Notes (Office use only)
A4: Month claimed for | B4: ='Cover Sheet'!B9 -> May
A5: Pharmacy Name | B5: =Pharmacy_Address1 -> Auto Populates
A6: Contractor Code | B6: =Contractor_Code -> 0
A7: Date of submission | B7: =Date -> 45817
A9: Please enter details in the green coloured cells below
A10: No. of journeys | B10: 0
A11: Miles per journey (@45p per mile) | B11: 0
A12: Total claim | B12: =(B10*B11)*0.45 -> 0
A14: I declare that the information I have provided is correct and complete. I understand that, if I knowingly provide false information, thiis may be liable to prosecution and civil recovery proceedings. I agree to co-operate fully with all payment verification procedures. I agree that any overpayments identified through the post payment verification procedure may be recovered at a future date by National Services Scotland for NHS Highland.
A15: Signature agreeing to Declaration and consent to share, disclose or obtain information:
A16: ='Cover Sheet'!B11 -> Joe Bloggs

Sheet Palliative Care
A1: Back to Cover Sheet
A3: Palliative Care Service | D3: Notes (Office use only)
A4: Month claimed for | B4: ='Cover Sheet'!B9 -> May
A5: Pharmacy Name | B5: =Pharmacy_Address1 -> Auto Populates
A6: Contractor Code | B6: =Contractor_Code -> 0
A7: Date of submission | B7: =Date -> 45817
A9: Annual Fee
A10: Palliative Care Annual Fee | C10: Office use only
A12: Please enter details in the green coloured cells below
A13: Replacement/New Drug Costs (please include relevant invoices with claim)
A14: Replacement/New Drug Total Costs (Ex Vat)/ Other | B14: 0
A16: Total Palliative Care Claim | B16: =B10+B14 -> 0
A18: I declare that the information I have provided is correct and complete. I understand that, if I knowingly provide false information, thiis may be liable to prosecution and civil recovery proceedings. I agree to co-operate fully with all payment verification procedures. I agree that any overpayments identified through the post payment verification procedure may be recovered at a future date by National Services Scotland for NHS Highland.
A19: Signature agreeing to Declaration and consent to share, disclose or obtain information:
A20: ='Cover Sheet'!B11 -> Joe Bloggs
A36: 180
A37: 240
A38: 265
A39: 295

Sheet MDS
A1: Back to Cover Sheet
A3: Medication Compliance Support Initiative | D3: Notes (Office use only)
A4: Month claimed for | B4: ='Cover Sheet'!B9 -> May
A5: Pharmacy Name | B5: =Pharmacy_Address1 -> Auto Populates
A6: Contractor Code | B6: =Contractor_Code -> 0
A7: Date of submission | B7: =Date -> 45817
A9: Please enter number of devices in the green coloured cell below
A10: I hereby claim £0.28 per device
A11: Total number of devices claimed (NOT patients) | B11: 0
A12: Total payment | B12: =B11*0.28 -> 0
A14: I declare that the information I have provided is correct and complete. I understand that, if I knowingly provide false information, thiis may be liable to prosecution and civil recovery proceedings. I agree to co-operate fully with all payment verification procedures. I agree that any overpayments identified through the post payment verification procedure may be recovered at a future date by National Services Scotland for NHS Highland.
A15: Signature agreeing to Declaration and consent to share, disclose or obtain information:
A16: ='Cover Sheet'!B11 -> Joe Bloggs

Sheet Advice to Care Homes
A1: Back to Cover Sheet
A3: Advice to Care Home | D3: Notes (Office use only)
A4: Please submit Advice to Care Home forms. Claims will then be automatically calculated and processed.
A5: Month claimed for | B5: ='Cover Sheet'!B9 -> May
A6: Pharmacy Name | B6: =Pharmacy_Address1 -> Auto Populates
A7: Contractor Code | B7: =Contractor_Code -> 0
A8: Date of submission | B8: =Date -> 45817
A10: Annual Fee | C10: Office Use Only
A12: Quarter 1
A13: Q1 (no of claims for 14 beds or under) | B13: 0
A14: Q1 (no of claims for 15 to 39 beds) | B14: 0
A15: Q1 (no of claims for 40 beds or over) | B15: 0
A16: Sub total for Quarter 1 | B16: =(B13*66)+(B14*88)+(B15*105) -> 0
A18: Quarter 2
A19: Q2 (no of claims for 14 beds or under) | B19: 0
A20: Q2 (no of claims for 15 to 39 beds) | B20: 0
A21: Q2 (no of claims for 40 beds or over) | B21: 0
A22: Sub total for Quarter 2 | B22: =(B19*66)+(B20*88)+(B21*105) -> 0
A24: Quarter 3
A25: Q3 (no of claims for 14 beds or under) | B25: 0
A26: Q3 (no of claims for 15 to 39 beds) | B26: 0
A27: Q3 (no of claims for 40 beds or over) | B27: 0
A28: Sub total for Quarter 3 | B28: =(B25*66)+(B26*88)+(B27*105) -> 0
A30: Quarter 4
A31: Q4 (no of claims for 14 beds or under) | B31: 0
A32: Q4 (no of claims for 15 to 39 beds) | B32: 0
A33: Q4 (no of claims for 40 beds or over) | B33: 0
A34: Sub total for Quarter 4 | B34: =(B31*66)+(B32*88)+(B33*105) -> 0
A37: Advice to Care Homes total payment | B37: =B10+B16+B22+B28+B34 -> 0
A39: I declare that the information I have provided is correct and complete. I understand that, if I knowingly provide false information, thiis may be liable to prosecution and civil recovery proceedings. I agree to co-operate fully with all payment verification procedures. I agree that any overpayments identified through the post payment verification procedure may be recovered at a future date by National Services Scotland for NHS Highland.
A40: Signature agreeing to Declaration and consent to share, disclose or obtain information:
A41: ='Cover Sheet'!B11 -> Joe Bloggs
A57: 14 or under
A58: 15 to 39
A59: 40 or over

Sheet Care at Home
A1: Back to Cover Sheet
A3: Care at Home | D3: Notes (Office use only)
A4: Month claimed for | B4: ='Cover Sheet'!B9 -> May
A5: Pharmacy Name | B5: =Pharmacy_Address1 -> Auto Populates
A6: Contractor Code | B6: =Contractor_Code -> 0
A7: Date of submission | B7: =Date -> 45817
A9: Annual Fee
A10: Care at Home Annual Fee | C10: Office use only
A12: Please enter details in the green coloured cells below
A13: No. of new managed support patients (MAR Chart) £25 per patient | B13: 0
A14: Sub total | B14: =B13*25 -> 0
A16: No. of on-going managed support patients (MAR Chart) £5 per patient | B16: 0
A17: Sub total | B17: =B16*5 -> 0
A19: Total Care at Home Claim | B19: =B10+B14+B17 -> 0
A21: I declare that the information I have provided is correct and complete. I understand that, if I knowingly provide false information, thiis may be liable to prosecution and civil recovery proceedings. I agree to co-operate fully with all payment verification procedures. I agree that any overpayments identified through the post payment verification procedure may be recovered at a future date by National Services Scotland for NHS Highland.
A22: Signature agreeing to Declaration and consent to share, disclose or obtain information:
A23: ='Cover Sheet'!B11 -> Joe Bloggs

Sheet Clozapine
A1: Back to Cover Sheet
A3: Clozapine Service | D3: Notes (Office use only)
A4: Month claimed for | B4: ='Cover Sheet'!B9 -> May
A5: Pharmacy Name | B5: =Pharmacy_Address1 -> Auto Populates
A6: Contractor Code | B6: =Contractor_Code -> 0
A7: Date of submission | B7: =Date -> 45817
A9: Clozapine Set Up Training Fee (automatically paid - for office use only)
A10: Clozapine Training Fee (£100) | C10: Office use only
A12: Please enter number of patients in the green coloured cell below
A13: I hereby claim £25 per Clozapine patient
A14: Total number of clozapine patients | B14: 0
A15: Payment | B15: =B14*25 -> 0
A17: Clozapine total payment (Training Fee plus Number of Patients) | B17: =B10+B15 -> 0
A19: I declare that the information I have provided is correct and complete. I understand that, if I knowingly provide false information, thiis may be liable to prosecution and civil recovery proceedings. I agree to co-operate fully with all payment verification procedures. I agree that any overpayments identified through the post payment verification procedure may be recovered at a future date by National Services Scotland for NHS Highland.
A20: Signature agreeing to Declaration and consent to share, disclose or obtain information:
A21: ='Cover Sheet'!B11 -> Joe Bloggs

Sheet OST Service
A1: Back to Cover Sheet
A3: OST Service | D3: Notes (Office use only)
A4: Month claimed for | B4: ='Cover Sheet'!B9 -> May
A5: Pharmacy Name | B5: =Pharmacy_Address1 -> Auto Populates
A6: Contractor Code | B6: =Contractor_Code -> 0
A7: Date of submission | B7: =Date -> 45817
A9: Please enter number of patients in the green coloured cells below
A10: £70 per Buprenorphine patient (exc Buvidal) (scope of SLA must be met for each patient)
A11: Total number of Buprenorphine patients | B11: 0
A12: Buprenorphine total payment | B12: =B11*70 -> 0
A14: £70 per Methadone patient (scope of SLA must be met for each patient)
A15: Total number of Methadone patients | B15: 0
A16: Methadone total payment | B16: =B15*70 -> 0
A18: £70 per Buvidal patient (scope of SLA must be met for each patient)
A19: Total number of Buvidal patients | B19: 0
A20: Buvidal total payment | B20: =B19*70 -> 0
A21: Scope of SLA must be met for each patient
A22: OST Total Payment (Buprenorphine, Methadone & Buvidal) | B22: =B12+B16+B20 -> 0
A24: I declare that the information I have provided is correct and complete. I understand that, if I knowingly provide false information, thiis may be liable to prosecution and civil recovery proceedings. I agree to co-operate fully with all payment verification procedures. I agree that any overpayments identified through the post payment verification procedure may be recovered at a future date by National Services Scotland for NHS Highland.
A25: Signature agreeing to Declaration and consent to share, disclose or obtain information:
A26: ='Cover Sheet'!B11 -> Joe Bloggs

Sheet Other Services -Office Use Only
A1: Back to Cover Sheet
A3: Other Services (Office Use Only) | D3: Notes (Office use only)
A4: Month claimed for | B4: ='Cover Sheet'!B9 -> May
A5: Pharmacy Name | B5: =Pharmacy_Address1 -> Auto Populates
A6: Contractor Code | B6: =Contractor_Code -> 0
A7: Date of submission | B7: =Date -> 45817
A10: Hepatitis C
A12: Pt Reference Numbers (free text) | B12: 0 | C12: Office use only
A14: No. of new patients (Pharmacy has previously had a Hep C) | B14: 0 | C14: Office use only
A15: No. of new patients (Pharmacy's first ever Hep C patient) | B15: 0 | C15: Office use only
A16: Sub total | B16: =(B14*300)+(B15*585) -> 0 | C16: Office use only
A18: No. of Hep C Advance Payments | B18: 0 | C18: Office use only
A19: No. of Hep C Advance Payments at | B19: 0 | C19: Office use only
A20: Advance Payment Total | B20: =(B18*13000)+(B19*15000) -> 0 | C20: Office use only
A22: No. of Hep C Advance Recoveries at | B22: 0 | C22: Office use only
A23: No. of Hep C Advance Recoveries | B23: 0 | C23: Office use only
A24: Advance Reclaim Total | B24: =(B22*-13000)+(B23*-15000) -> 0 | C24: Office use only
A27: Prostate Cancer
A29: Pt Reference Numbers (free text) | C29: Office use only
A31: Annual fee per pt per year (please enter monthly number) | B31: 0 | C31: Office use only
A32: Sub total | B32: =B31*75 -> 0 | C32: Office use only
A34: No. of Prostate Cancer Advance Payments | B34: 0 | C34: Office use only
A35: Advance Payment Total | B35: =B34*2800 -> 0 | C35: Office use only
A37: No. of Prostate Cancer Advance Recoveries | B37: 0 | C37: Office use only
A38: Advance Reclaim Total | B38: =B37*-2800 -> 0 | C38: Office use only
A41: Board Committees/Locum Costs | D41: Need additional form
A43: Name of Board Committee(s) attended (free text) | C43: Office use only
A44: Name of individual(s) who attended (free text) | C44: Office use only
A45: Locum Costs | B45: 0 | C45: Office use only
A46: Travel Costs | B46: 0 | C46: Office use only
A47: Total | B47: =B45+B46 -> 0 | C47: Office use only
A50: Pharmacy Champions
A52: Number of sessions claimed (30 minute session at £22.50 each) | B52: 0 | C52: Office use only
A53: Travel expenses no. of miles (£0.23p per mile) | B53: 0 | C53: Office use only
A54: Total Payment | B54: =(B52*22.5)+(B53*0.23) -> 0 | C54: Office use only
A57: Festive Rota
A59: Date(s) of Opening (free text) | C59: Office use only
A60: No. of hours open on Christmas Day/Boxing day | B60: 0 | C60: Office use only
A61: No. of hours open on other festive rota days | B61: 0 | C61: Office use only
A62: Total Payment | B62: =(B60*220)+(B61*170) -> 0 | C62: Office use only
...

Sheet Transfer sheet-Office Use Only
A1: Contractor Code | B1: Residential Homes | C1: Rota | D1: Needle Exchange | E1: Collection & Delivery | F1: Methadone Supervision | G1: Subutex Supervision | H1: Smoking Cessation | I1: Pharmacy Champions | J1: Frail Elderly | K1: Palliative Care | L1: Enduring Mental Illness | M1: Compliance Support Initiative | N1: Pharmacy First National Service | O1: Blank | P1: ACTp Payment August 2023 | Q1: NES Payment 2 | R1: NES Payment 3 | S1: Home Carers Administration of Medicines | T1: Hep C Advanced Payment | U1: Hep C Advanced Recovery | V1: Prostate Cancer Payment | W1: Prostate Cancer Recovery | X1: Hep C New Patient Fee | Y1: Prostate New Patient Fee | Z1: Other NHS Service | AA1: Seasonal Flu - Participation Fee | AB1: Seasonal Flu - Immunisation Fee | AC1: Travel Vaccinations | AD1: COVID Vaccinations | AE1: Clozapine | AF1: OST/Buvidal | AG1: Total
A2: =Contractor_Code -> 0 | B2: ='Advice to Care Homes'!B37 -> 0 | C2: ='Other Services -Office Use Only'!B62 -> 0 | D2: ='Needle Exchange'!B19 -> 0 | E2: ='Collection & Delivery'!B12 -> 0 | F2: ='OST Service'!B16 -> 0 | G2: ='OST Service'!B12 -> 0 | I2: ='Other Services -Office Use Only'!B54 -> 0 | K2: ='Palliative Care'!B16 -> 0 | M2: =MDS!B12 -> 0 | S2: ='Care at Home'!B19 -> 0 | T2: ='Other Services -Office Use Only'!B20 -> 0 | U2: ='Other Services -Office Use Only'!B24 -> 0 | V2: ='Other Services -Office Use Only'!B35 -> 0 | W2: ='Other Services -Office Use Only'!B38 -> 0 | X2: ='Other Services -Office Use Only'!B16 -> 0 | Y2: ='Other Services -Office Use Only'!B32 -> 0 | Z2: ='Other Services -Office Use Only'!B68+'Other Services -Office Use Only'!B47 -> 0 | AA2: =Vaccinations!B19 -> 0 | AB2: =Vaccinations!B21-Vaccinations!B19 -> 0 | AC2: =Vaccinations!B16 -> 0 | AD2: =Vaccinations!B26+Vaccinations!B30 -> 0 | AE2: =Clozapine!B17 -> 0 | AF2: ='OST Service'!B20 -> 0 | AG2: =SUM(B2:AF2) -> 0

Sheet PharmacyLookup
A1: z
B2: Date downloaded 06/03/2024
B3: JG
B4: No of Items (Dispensed) | C4: Dispenser Health Board Name | D4: Dispenser Reference | E4: Dispenser Name | F4: Dispenser Address Line 1 | G4: Dispenser Address Line 4 | H4: Dispenser Post Code | I4: Operational Unit
D5: 4518 | E5: Boots | F5: 13 Sinclair Street | G5: HELENSBURGH | H5: G84 8SR | I5: Argyll & Bute Health and Social Care Partnership
D6: 4520 | E6: Boots | F6: 34-38 George Street | G6: OBAN | H6: PA34 5NL | I6: Argyll & Bute Health and Social Care Partnership
D7: 4527 | E7: Well | F7: 178-180 Argyll Street | G7: DUNOON | H7: PA23 7HA | I7: Argyll & Bute Health and Social Care Partnership
D8: 4644 | E8: Right Medicine Pharmacy | F8: 67 Argyll Street | G8: DUNOON | H8: PA23 7HG | I8: Argyll & Bute Health and Social Care Partnership
D9: 4668 | E9: your local Boots pharmacy | F9: 182 Argyll Street | G9: DUNOON | H9: PA23 7HA | I9: Argyll & Bute Health and Social Care Partnership
D10: 4672 | E10: your local Boots pharmacy | F10: 11-13 Longrow South | G10: CAMPBELTOWN | H10: PA28 6AH | I10: Argyll & Bute Health and Social Care Partnership
D11: 4731 | E11: Argyll Pharmacy | F11: 12-14 Argyll Street | G11: LOCHGILPHEAD | H11: PA31 8LZ | I11: Argyll & Bute Health and Social Care Partnership
D12: 4738 | E12: Rowlands Pharmacy | F12: 48 West Princes Street | G12: HELENSBURGH | H12: G84 8UG | I12: Argyll & Bute Health and Social Care Partnership
D13: 4741 | E13: Tarbert Pharmacy | F13: Barmore Road | G13: TARBERT | H13: PA29 6TW | I13: Argyll & Bute Health and Social Care Partnership
D14: 9110 | E14: M & D Green Pharmacy | F14: 16 George Street | G14: OBAN | H14: PA34 5SB | I14: Argyll & Bute Health and Social Care Partnership
D15: 9109 | E15: M & D Green Pharmacy | F15: 52A Sinclair Street | G15: HELENSBURGH | H15: G84 8TQ | I15: Argyll & Bute Health and Social Care Partnership
D16: 4773 | E16: Cardross Pharmacy | F16: 93A Westend Place, Main Road | G16: CARDROSS | H16: G82 5NY | I16: Argyll & Bute Health and Social Care Partnership
... D89: 9108 | E89: Campbeltown Pharmacy | F89: 2 Mafeking Place, 10 Longrow | G89: CAMPBELTOWN | H89: PA28 6DD | I89: argyll & Bute Health and Social Care Partnership
